BEGIN:VCALENDAR
VERSION:2.0
PRODID:-//jEvents 2.0 for Joomla//EN
CALSCALE:GREGORIAN
METHOD:PUBLISH
BEGIN:VTIMEZONE
TZID:Europe/Stockholm
BEGIN:STANDARD
DTSTART:20241027T020000
RDATE:20250330T030000
TZOFFSETFROM:+0200
TZOFFSETTO:+0100
TZNAME:Europe/Stockholm CET
END:STANDARD
BEGIN:STANDARD
DTSTART:20251026T020000
RDATE:20260329T030000
TZOFFSETFROM:+0200
TZOFFSETTO:+0100
TZNAME:Europe/Stockholm CET
END:STANDARD
BEGIN:STANDARD
DTSTART:20261025T020000
RDATE:20270328T030000
TZOFFSETFROM:+0200
TZOFFSETTO:+0100
TZNAME:Europe/Stockholm CET
END:STANDARD
BEGIN:STANDARD
DTSTART:20271031T020000
RDATE:20280326T030000
TZOFFSETFROM:+0200
TZOFFSETTO:+0100
TZNAME:Europe/Stockholm CET
END:STANDARD
BEGIN:STANDARD
DTSTART:20281029T020000
RDATE:20290325T030000
TZOFFSETFROM:+0200
TZOFFSETTO:+0100
TZNAME:Europe/Stockholm CET
END:STANDARD
BEGIN:STANDARD
DTSTART:20291028T020000
RDATE:20300331T030000
TZOFFSETFROM:+0200
TZOFFSETTO:+0100
TZNAME:Europe/Stockholm CET
END:STANDARD
BEGIN:STANDARD
DTSTART:20301027T020000
RDATE:20310330T030000
TZOFFSETFROM:+0200
TZOFFSETTO:+0100
TZNAME:Europe/Stockholm CET
END:STANDARD
BEGIN:STANDARD
DTSTART:20311026T020000
RDATE:20320328T030000
TZOFFSETFROM:+0200
TZOFFSETTO:+0100
TZNAME:Europe/Stockholm CET
END:STANDARD
BEGIN:DAYLIGHT
DTSTART:20240506T180000
RDATE:20241027T020000
TZOFFSETFROM:+0100
TZOFFSETTO:+0200
TZNAME:Europe/Stockholm CEST
END:DAYLIGHT
BEGIN:DAYLIGHT
DTSTART:20250330T030000
RDATE:20251026T020000
TZOFFSETFROM:+0100
TZOFFSETTO:+0200
TZNAME:Europe/Stockholm CEST
END:DAYLIGHT
BEGIN:DAYLIGHT
DTSTART:20260329T030000
RDATE:20261025T020000
TZOFFSETFROM:+0100
TZOFFSETTO:+0200
TZNAME:Europe/Stockholm CEST
END:DAYLIGHT
BEGIN:DAYLIGHT
DTSTART:20270328T030000
RDATE:20271031T020000
TZOFFSETFROM:+0100
TZOFFSETTO:+0200
TZNAME:Europe/Stockholm CEST
END:DAYLIGHT
BEGIN:DAYLIGHT
DTSTART:20280326T030000
RDATE:20281029T020000
TZOFFSETFROM:+0100
TZOFFSETTO:+0200
TZNAME:Europe/Stockholm CEST
END:DAYLIGHT
BEGIN:DAYLIGHT
DTSTART:20290325T030000
RDATE:20291028T020000
TZOFFSETFROM:+0100
TZOFFSETTO:+0200
TZNAME:Europe/Stockholm CEST
END:DAYLIGHT
BEGIN:DAYLIGHT
DTSTART:20300331T030000
RDATE:20301027T020000
TZOFFSETFROM:+0100
TZOFFSETTO:+0200
TZNAME:Europe/Stockholm CEST
END:DAYLIGHT
BEGIN:DAYLIGHT
DTSTART:20310330T030000
RDATE:20311026T020000
TZOFFSETFROM:+0100
TZOFFSETTO:+0200
TZNAME:Europe/Stockholm CEST
END:DAYLIGHT
END:VTIMEZONE
BEGIN:VEVENT
UID:8ab6c45978b1dbf9a9c0c410bf3a50fd
CATEGORIES:DEFAULT
CREATED:20250429T215628
SUMMARY:ONSDAGSTUR
LOCATION:Listerbymacken
URL;VALUE=URI:http://blekingemc.se/index.php/kalender-manad/handelsedetaljer/13/-/onsdags
 tur?tmpl=component
DESCRIPTION:<p>Kvällens Onsdagstur Körs från Listerbymacken Kl 1800<br /><br />TA MED E
 GEN FIKA</p> <a href="http://blekingemc.se/index.php/kalender-manad/handels
 edetaljer/13/-/onsdagstur?tmpl=component">This event was imported from: htt
 p://blekingemc.se/index.php/kalender-manad/handelsedetaljer/13/-/onsdagstur
 ?tmpl=component</a>DTSTAMP:20260422T222701
DTSTART;TZID=Europe/Stockholm:20250507T180000
SEQUENCE:0
RRULE:FREQ=WEEKLY;UNTIL=20251001T000000Z;INTERVAL=2;BYDAY=WE
TRANSP:OPAQUE
END:VEVENT
BEGIN:VEVENT
UID:8ab6c45978b1dbf9a9c0c410bf3a50fd
CATEGORIES:DEFAULT
CREATED:20250429T215628
SUMMARY:ONSDAGSTUR
LOCATION:Listerbymacken
DESCRIPTION:<p>Kvällens Onsdagstur Körs från Listerbymacken Kl 1800<br /><br />TA MED E
 GEN FIKA</p>
URL;VALUE=URI:http://blekingemc.se/index.php/kalender-manad/handelsedetaljer/13/-/onsdags
 tur?tmpl=component

DTSTAMP:20260422T222701
DTSTART;TZID=Europe/Stockholm:20250507T180000
DTEND;TZID=Europe/Stockholm:20250507T235959
RECURRENCE-ID;TZID=Europe/Stockholm:20250507T180000
SEQUENCE:0
TRANSP:OPAQUE
END:VEVENT
BEGIN:VEVENT
UID:8ab6c45978b1dbf9a9c0c410bf3a50fd
CATEGORIES:DEFAULT
CREATED:20250429T215628
SUMMARY:ONSDAGSTUR
LOCATION:Listerbymacken
DESCRIPTION:<p>Kvällens Onsdagstur Körs från Listerbymacken Kl 1800</p>
URL;VALUE=URI:http://blekingemc.se/index.php/kalender-manad/handelsedetaljer/14/-/onsdags
 tur?tmpl=component

DTSTAMP:20260422T222701
DTSTART;TZID=Europe/Stockholm:20250521T180000
DTEND;TZID=Europe/Stockholm:20250521T235959
RECURRENCE-ID;TZID=Europe/Stockholm:20250521T180000
SEQUENCE:0
TRANSP:OPAQUE
END:VEVENT
END:VCALENDAR