BEGIN:VCALENDAR
VERSION:2.0
PRODID:-//jEvents 2.0 for Joomla//EN
CALSCALE:GREGORIAN
METHOD:PUBLISH
BEGIN:VTIMEZONE
TZID:Europe/Stockholm
BEGIN:STANDARD
DTSTART:20241027T020000
RDATE:20250330T030000
TZOFFSETFROM:+0200
TZOFFSETTO:+0100
TZNAME:Europe/Stockholm CET
END:STANDARD
BEGIN:STANDARD
DTSTART:20251026T020000
RDATE:20260329T030000
TZOFFSETFROM:+0200
TZOFFSETTO:+0100
TZNAME:Europe/Stockholm CET
END:STANDARD
BEGIN:STANDARD
DTSTART:20261025T020000
RDATE:20270328T030000
TZOFFSETFROM:+0200
TZOFFSETTO:+0100
TZNAME:Europe/Stockholm CET
END:STANDARD
BEGIN:STANDARD
DTSTART:20271031T020000
RDATE:20280326T030000
TZOFFSETFROM:+0200
TZOFFSETTO:+0100
TZNAME:Europe/Stockholm CET
END:STANDARD
BEGIN:STANDARD
DTSTART:20281029T020000
RDATE:20290325T030000
TZOFFSETFROM:+0200
TZOFFSETTO:+0100
TZNAME:Europe/Stockholm CET
END:STANDARD
BEGIN:STANDARD
DTSTART:20291028T020000
RDATE:20300331T030000
TZOFFSETFROM:+0200
TZOFFSETTO:+0100
TZNAME:Europe/Stockholm CET
END:STANDARD
BEGIN:STANDARD
DTSTART:20301027T020000
RDATE:20310330T030000
TZOFFSETFROM:+0200
TZOFFSETTO:+0100
TZNAME:Europe/Stockholm CET
END:STANDARD
BEGIN:STANDARD
DTSTART:20311026T020000
RDATE:20320328T030000
TZOFFSETFROM:+0200
TZOFFSETTO:+0100
TZNAME:Europe/Stockholm CET
END:STANDARD
BEGIN:DAYLIGHT
DTSTART:20240821T150000
RDATE:20241027T020000
TZOFFSETFROM:+0100
TZOFFSETTO:+0200
TZNAME:Europe/Stockholm CEST
END:DAYLIGHT
BEGIN:DAYLIGHT
DTSTART:20250330T030000
RDATE:20251026T020000
TZOFFSETFROM:+0100
TZOFFSETTO:+0200
TZNAME:Europe/Stockholm CEST
END:DAYLIGHT
BEGIN:DAYLIGHT
DTSTART:20260329T030000
RDATE:20261025T020000
TZOFFSETFROM:+0100
TZOFFSETTO:+0200
TZNAME:Europe/Stockholm CEST
END:DAYLIGHT
BEGIN:DAYLIGHT
DTSTART:20270328T030000
RDATE:20271031T020000
TZOFFSETFROM:+0100
TZOFFSETTO:+0200
TZNAME:Europe/Stockholm CEST
END:DAYLIGHT
BEGIN:DAYLIGHT
DTSTART:20280326T030000
RDATE:20281029T020000
TZOFFSETFROM:+0100
TZOFFSETTO:+0200
TZNAME:Europe/Stockholm CEST
END:DAYLIGHT
BEGIN:DAYLIGHT
DTSTART:20290325T030000
RDATE:20291028T020000
TZOFFSETFROM:+0100
TZOFFSETTO:+0200
TZNAME:Europe/Stockholm CEST
END:DAYLIGHT
BEGIN:DAYLIGHT
DTSTART:20300331T030000
RDATE:20301027T020000
TZOFFSETFROM:+0100
TZOFFSETTO:+0200
TZNAME:Europe/Stockholm CEST
END:DAYLIGHT
BEGIN:DAYLIGHT
DTSTART:20310330T030000
RDATE:20311026T020000
TZOFFSETFROM:+0100
TZOFFSETTO:+0200
TZNAME:Europe/Stockholm CEST
END:DAYLIGHT
END:VTIMEZONE
BEGIN:VEVENT
UID:1b9c2daa8c06631c3fac364c4c0625ec
CATEGORIES:DEFAULT
CREATED:20250726T112811
SUMMARY:BMC-Helg
LOCATION:Järnaviks Camping
URL;VALUE=URI:http://blekingemc.se/index.php/kalender-manad/handelsedetaljer/40/-/bmc-hel
 g?tmpl=component
DESCRIPTION:<p><strong>BMC - Helg  Sista anmälningsdag 4/8</strong></p> <a href="http:/
 /blekingemc.se/index.php/kalender-manad/handelsedetaljer/40/-/bmc-helg?tmpl
 =component">This event was imported from: http://blekingemc.se/index.php/ka
 lender-manad/handelsedetaljer/40/-/bmc-helg?tmpl=component</a>CONTACT:Ulf Nelsén 0736 90 65 77
X-EXTRAINFO:Hej!\n
Nu är det god tid för att anmäla sig till vår BMC-helgen 22 - 24/8  
 som kommer att hållas på Järnaviks Camping.\n
Vi har i år tillgång till 7 s
 tugor och många campingplatser. \n
Upplägget är som tidigare år.\n
Fredagsk
 vällen sköter var och en sin egen mat och dricka. Grill kommer att finnas.\
 n
Lördag kommer det att vara lite aktiviteter som alla är välkomna till äve
 n ni som inte bor på Campingen.\n
Vid ca kl 11 kör vi en mc-tur.\n
Sedan bl
 ir det tipsrunda.\n
Minigolf.\n
Vi avslutar dagen med middag i restaurangen
 .\n
Man får välja mellan ryggbiff och lax.\n
Priser som är klara för helgen
  är:\n
Stuga 500 kr/natt.\n
Campingplats 300 kr/natt.\n
Frukost återkommer\
 n
Middag lördagskvällen återkommer.\n
\n
Stuga och mat bokas till mig Uffe.
 \n
På 0736906577 viktigt.\n
Campingplatsen bokar man själv men missa inte a
 tt boka maten till mig.\n
\n
Välkomna\n
BMC\n
Uffe\n
\n

DTSTAMP:20260423T225709
DTSTART;TZID=Europe/Stockholm:20250822T150000
DTEND;TZID=Europe/Stockholm;VALUE=DATE:20250825
SEQUENCE:0
TRANSP:OPAQUE
END:VEVENT
END:VCALENDAR