BEGIN:VCALENDAR
VERSION:2.0
PRODID:-//jEvents 2.0 for Joomla//EN
CALSCALE:GREGORIAN
METHOD:PUBLISH
BEGIN:VTIMEZONE
TZID:Europe/Stockholm
BEGIN:STANDARD
DTSTART:20241027T020000
RDATE:20250330T030000
TZOFFSETFROM:+0200
TZOFFSETTO:+0100
TZNAME:Europe/Stockholm CET
END:STANDARD
BEGIN:STANDARD
DTSTART:20251026T020000
RDATE:20260329T030000
TZOFFSETFROM:+0200
TZOFFSETTO:+0100
TZNAME:Europe/Stockholm CET
END:STANDARD
BEGIN:STANDARD
DTSTART:20261025T020000
RDATE:20270328T030000
TZOFFSETFROM:+0200
TZOFFSETTO:+0100
TZNAME:Europe/Stockholm CET
END:STANDARD
BEGIN:STANDARD
DTSTART:20271031T020000
RDATE:20280326T030000
TZOFFSETFROM:+0200
TZOFFSETTO:+0100
TZNAME:Europe/Stockholm CET
END:STANDARD
BEGIN:STANDARD
DTSTART:20281029T020000
RDATE:20290325T030000
TZOFFSETFROM:+0200
TZOFFSETTO:+0100
TZNAME:Europe/Stockholm CET
END:STANDARD
BEGIN:STANDARD
DTSTART:20291028T020000
RDATE:20300331T030000
TZOFFSETFROM:+0200
TZOFFSETTO:+0100
TZNAME:Europe/Stockholm CET
END:STANDARD
BEGIN:STANDARD
DTSTART:20301027T020000
RDATE:20310330T030000
TZOFFSETFROM:+0200
TZOFFSETTO:+0100
TZNAME:Europe/Stockholm CET
END:STANDARD
BEGIN:STANDARD
DTSTART:20311026T020000
RDATE:20320328T030000
TZOFFSETFROM:+0200
TZOFFSETTO:+0100
TZNAME:Europe/Stockholm CET
END:STANDARD
BEGIN:DAYLIGHT
DTSTART:20240404T154500
RDATE:20241027T020000
TZOFFSETFROM:+0100
TZOFFSETTO:+0200
TZNAME:Europe/Stockholm CEST
END:DAYLIGHT
BEGIN:DAYLIGHT
DTSTART:20250330T030000
RDATE:20251026T020000
TZOFFSETFROM:+0100
TZOFFSETTO:+0200
TZNAME:Europe/Stockholm CEST
END:DAYLIGHT
BEGIN:DAYLIGHT
DTSTART:20260329T030000
RDATE:20261025T020000
TZOFFSETFROM:+0100
TZOFFSETTO:+0200
TZNAME:Europe/Stockholm CEST
END:DAYLIGHT
BEGIN:DAYLIGHT
DTSTART:20270328T030000
RDATE:20271031T020000
TZOFFSETFROM:+0100
TZOFFSETTO:+0200
TZNAME:Europe/Stockholm CEST
END:DAYLIGHT
BEGIN:DAYLIGHT
DTSTART:20280326T030000
RDATE:20281029T020000
TZOFFSETFROM:+0100
TZOFFSETTO:+0200
TZNAME:Europe/Stockholm CEST
END:DAYLIGHT
BEGIN:DAYLIGHT
DTSTART:20290325T030000
RDATE:20291028T020000
TZOFFSETFROM:+0100
TZOFFSETTO:+0200
TZNAME:Europe/Stockholm CEST
END:DAYLIGHT
BEGIN:DAYLIGHT
DTSTART:20300331T030000
RDATE:20301027T020000
TZOFFSETFROM:+0100
TZOFFSETTO:+0200
TZNAME:Europe/Stockholm CEST
END:DAYLIGHT
BEGIN:DAYLIGHT
DTSTART:20310330T030000
RDATE:20311026T020000
TZOFFSETFROM:+0100
TZOFFSETTO:+0200
TZNAME:Europe/Stockholm CEST
END:DAYLIGHT
END:VTIMEZONE
BEGIN:VEVENT
UID:dc960ac97c11bdb79bee0465168a4d3c
CATEGORIES:DEFAULT
CREATED:20250316T095954
SUMMARY:BOWLING 
URL;VALUE=URI:http://blekingemc.se/index.php/kalender-manad/handelsedetaljer/4/-/bowling?
 tmpl=component
DESCRIPTION:Den 5/4 smalas vi i Karlshamn för lite bowling.\nSamling 15:45 \nVi bowlar 
 mellan 16:00 och 18:00.\nPris 120 kr/person plus 10 kr skoavgift.\n\nEfter 
 Bowlingen tar vi oss ner till Rustik Kök och Bar.\ndär njuter av lite mat o
 ch dryck.\nRUSTIK KÖK och BAR (https://rustikkarlshamn.se/)\n\nVälkomna\nAn
 mälan görs till\nUffe 0736 90 65 77\n This event was imported from: http://
 blekingemc.se/index.php/kalender-manad/handelsedetaljer/4/-/bowling?tmpl=co
 mponent (http://blekingemc.se/index.php/kalender-manad/handelsedetaljer/4/-
 /bowling?tmpl=component)

X-ALT-DESC;FMTTYPE=text/html:<p>Den 5/4 smalas vi i Karlshamn för lite bowling.<br />Samling 15:45 <br /
 >Vi bowlar mellan 16:00 och 18:00.<br />Pris 120 kr/person plus 10 kr skoav
 gift.<br /><br />Efter Bowlingen tar vi oss ner till Rustik Kök och Bar.<br
  />där njuter av lite mat och dryck.<br /><a href="https://rustikkarlshamn.
 se/">RUSTIK KÖK och BAR</a><br /><br />Välkomna<br />Anmälan görs till<br /
 >Uffe 0736 90 65 77</p> <a href="http://blekingemc.se/index.php/kalender-ma
 nad/handelsedetaljer/4/-/bowling?tmpl=component">This event was imported fr
 om: http://blekingemc.se/index.php/kalender-manad/handelsedetaljer/4/-/bowl
 ing?tmpl=component</a>DTSTAMP:20260422T222224
DTSTART;TZID=Europe/Stockholm:20250405T154500
SEQUENCE:0
TRANSP:OPAQUE
END:VEVENT
END:VCALENDAR