BEGIN:VCALENDAR
VERSION:2.0
PRODID:-//jEvents 2.0 for Joomla//EN
CALSCALE:GREGORIAN
METHOD:PUBLISH
BEGIN:VTIMEZONE
TZID:Europe/Stockholm
BEGIN:STANDARD
DTSTART:20241027T020000
RDATE:20250330T030000
TZOFFSETFROM:+0200
TZOFFSETTO:+0100
TZNAME:Europe/Stockholm CET
END:STANDARD
BEGIN:STANDARD
DTSTART:20251026T020000
RDATE:20260329T030000
TZOFFSETFROM:+0200
TZOFFSETTO:+0100
TZNAME:Europe/Stockholm CET
END:STANDARD
BEGIN:STANDARD
DTSTART:20261025T020000
RDATE:20270328T030000
TZOFFSETFROM:+0200
TZOFFSETTO:+0100
TZNAME:Europe/Stockholm CET
END:STANDARD
BEGIN:STANDARD
DTSTART:20271031T020000
RDATE:20280326T030000
TZOFFSETFROM:+0200
TZOFFSETTO:+0100
TZNAME:Europe/Stockholm CET
END:STANDARD
BEGIN:STANDARD
DTSTART:20281029T020000
RDATE:20290325T030000
TZOFFSETFROM:+0200
TZOFFSETTO:+0100
TZNAME:Europe/Stockholm CET
END:STANDARD
BEGIN:STANDARD
DTSTART:20291028T020000
RDATE:20300331T030000
TZOFFSETFROM:+0200
TZOFFSETTO:+0100
TZNAME:Europe/Stockholm CET
END:STANDARD
BEGIN:STANDARD
DTSTART:20301027T020000
RDATE:20310330T030000
TZOFFSETFROM:+0200
TZOFFSETTO:+0100
TZNAME:Europe/Stockholm CET
END:STANDARD
BEGIN:STANDARD
DTSTART:20311026T020000
RDATE:20320328T030000
TZOFFSETFROM:+0200
TZOFFSETTO:+0100
TZNAME:Europe/Stockholm CET
END:STANDARD
BEGIN:DAYLIGHT
DTSTART:20240516T110000
RDATE:20241027T020000
TZOFFSETFROM:+0100
TZOFFSETTO:+0200
TZNAME:Europe/Stockholm CEST
END:DAYLIGHT
BEGIN:DAYLIGHT
DTSTART:20250330T030000
RDATE:20251026T020000
TZOFFSETFROM:+0100
TZOFFSETTO:+0200
TZNAME:Europe/Stockholm CEST
END:DAYLIGHT
BEGIN:DAYLIGHT
DTSTART:20260329T030000
RDATE:20261025T020000
TZOFFSETFROM:+0100
TZOFFSETTO:+0200
TZNAME:Europe/Stockholm CEST
END:DAYLIGHT
BEGIN:DAYLIGHT
DTSTART:20270328T030000
RDATE:20271031T020000
TZOFFSETFROM:+0100
TZOFFSETTO:+0200
TZNAME:Europe/Stockholm CEST
END:DAYLIGHT
BEGIN:DAYLIGHT
DTSTART:20280326T030000
RDATE:20281029T020000
TZOFFSETFROM:+0100
TZOFFSETTO:+0200
TZNAME:Europe/Stockholm CEST
END:DAYLIGHT
BEGIN:DAYLIGHT
DTSTART:20290325T030000
RDATE:20291028T020000
TZOFFSETFROM:+0100
TZOFFSETTO:+0200
TZNAME:Europe/Stockholm CEST
END:DAYLIGHT
BEGIN:DAYLIGHT
DTSTART:20300331T030000
RDATE:20301027T020000
TZOFFSETFROM:+0100
TZOFFSETTO:+0200
TZNAME:Europe/Stockholm CEST
END:DAYLIGHT
BEGIN:DAYLIGHT
DTSTART:20310330T030000
RDATE:20311026T020000
TZOFFSETFROM:+0100
TZOFFSETTO:+0200
TZNAME:Europe/Stockholm CEST
END:DAYLIGHT
END:VTIMEZONE
BEGIN:VEVENT
UID:ad84891e024d344e0bf24e151bfc8b57
CATEGORIES:DEFAULT
CREATED:20250429T221036
SUMMARY:Hökrallyt
URL;VALUE=URI:http://blekingemc.se/index.php/kalender-manad/handelsedetaljer/34/-/hoekral
 lyt?tmpl=component
DESCRIPTION:För alla som vill kör vi Hökarnas Rally.\nVi samlas kl 11.00 vid Viggenplan
 et för alla som vill haka på.\nGår även att köra rallyt på egen hand. Missa
  inte att skriva BMC som Klubbtillhörighet.\n
Hökrallyt (https://www.facebo
 ok.com/groups/375459865860513/permalink/29158352677144515/)\n This event wa
 s imported from: http://blekingemc.se/index.php/kalender-manad/handelsedeta
 ljer/34/-/hoekrallyt?tmpl=component (http://blekingemc.se/index.php/kalende
 r-manad/handelsedetaljer/34/-/hoekrallyt?tmpl=component)

X-ALT-DESC;FMTTYPE=text/html:<p>För alla som vill kör vi Hökarnas Rally.<br />Vi samlas kl 11.00 vid Vig
 genplanet för alla som vill haka på.<br />Går även att köra rallyt på egen 
 hand. Missa inte att skriva BMC som Klubbtillhörighet.</p><p><a href="https
 ://www.facebook.com/groups/375459865860513/permalink/29158352677144515/">Hö
 krallyt</a></p> <a href="http://blekingemc.se/index.php/kalender-manad/hand
 elsedetaljer/34/-/hoekrallyt?tmpl=component">This event was imported from: 
 http://blekingemc.se/index.php/kalender-manad/handelsedetaljer/34/-/hoekral
 lyt?tmpl=component</a>DTSTAMP:20260422T222609
DTSTART;TZID=Europe/Stockholm:20250517T110000
SEQUENCE:0
TRANSP:OPAQUE
END:VEVENT
END:VCALENDAR