BEGIN:VCALENDAR
VERSION:2.0
PRODID:-//jEvents 2.0 for Joomla//EN
CALSCALE:GREGORIAN
METHOD:PUBLISH
BEGIN:VTIMEZONE
TZID:Europe/Stockholm
BEGIN:STANDARD
DTSTART:20241027T020000
RDATE:20250330T030000
TZOFFSETFROM:+0200
TZOFFSETTO:+0100
TZNAME:Europe/Stockholm CET
END:STANDARD
BEGIN:STANDARD
DTSTART:20251026T020000
RDATE:20260329T030000
TZOFFSETFROM:+0200
TZOFFSETTO:+0100
TZNAME:Europe/Stockholm CET
END:STANDARD
BEGIN:STANDARD
DTSTART:20261025T020000
RDATE:20270328T030000
TZOFFSETFROM:+0200
TZOFFSETTO:+0100
TZNAME:Europe/Stockholm CET
END:STANDARD
BEGIN:STANDARD
DTSTART:20271031T020000
RDATE:20280326T030000
TZOFFSETFROM:+0200
TZOFFSETTO:+0100
TZNAME:Europe/Stockholm CET
END:STANDARD
BEGIN:STANDARD
DTSTART:20281029T020000
RDATE:20290325T030000
TZOFFSETFROM:+0200
TZOFFSETTO:+0100
TZNAME:Europe/Stockholm CET
END:STANDARD
BEGIN:STANDARD
DTSTART:20291028T020000
RDATE:20300331T030000
TZOFFSETFROM:+0200
TZOFFSETTO:+0100
TZNAME:Europe/Stockholm CET
END:STANDARD
BEGIN:STANDARD
DTSTART:20301027T020000
RDATE:20310330T030000
TZOFFSETFROM:+0200
TZOFFSETTO:+0100
TZNAME:Europe/Stockholm CET
END:STANDARD
BEGIN:STANDARD
DTSTART:20311026T020000
RDATE:20320328T030000
TZOFFSETFROM:+0200
TZOFFSETTO:+0100
TZNAME:Europe/Stockholm CET
END:STANDARD
BEGIN:DAYLIGHT
DTSTART:20240430T090000
RDATE:20241027T020000
TZOFFSETFROM:+0100
TZOFFSETTO:+0200
TZNAME:Europe/Stockholm CEST
END:DAYLIGHT
BEGIN:DAYLIGHT
DTSTART:20250330T030000
RDATE:20251026T020000
TZOFFSETFROM:+0100
TZOFFSETTO:+0200
TZNAME:Europe/Stockholm CEST
END:DAYLIGHT
BEGIN:DAYLIGHT
DTSTART:20260329T030000
RDATE:20261025T020000
TZOFFSETFROM:+0100
TZOFFSETTO:+0200
TZNAME:Europe/Stockholm CEST
END:DAYLIGHT
BEGIN:DAYLIGHT
DTSTART:20270328T030000
RDATE:20271031T020000
TZOFFSETFROM:+0100
TZOFFSETTO:+0200
TZNAME:Europe/Stockholm CEST
END:DAYLIGHT
BEGIN:DAYLIGHT
DTSTART:20280326T030000
RDATE:20281029T020000
TZOFFSETFROM:+0100
TZOFFSETTO:+0200
TZNAME:Europe/Stockholm CEST
END:DAYLIGHT
BEGIN:DAYLIGHT
DTSTART:20290325T030000
RDATE:20291028T020000
TZOFFSETFROM:+0100
TZOFFSETTO:+0200
TZNAME:Europe/Stockholm CEST
END:DAYLIGHT
BEGIN:DAYLIGHT
DTSTART:20300331T030000
RDATE:20301027T020000
TZOFFSETFROM:+0100
TZOFFSETTO:+0200
TZNAME:Europe/Stockholm CEST
END:DAYLIGHT
BEGIN:DAYLIGHT
DTSTART:20310330T030000
RDATE:20311026T020000
TZOFFSETFROM:+0100
TZOFFSETTO:+0200
TZNAME:Europe/Stockholm CEST
END:DAYLIGHT
END:VTIMEZONE
BEGIN:VEVENT
UID:a45f21754143024b9131952d6a5ba614
CATEGORIES:DEFAULT
CREATED:20250422T120808
SUMMARY:1:a Majtur
URL;VALUE=URI:http://blekingemc.se/index.php/kalender-manad/handelsedetaljer/12/-/1-a-maj
 tur?tmpl=component
DESCRIPTION:<p>Årets 1:a majtur går till Svedinos bil och flygmuseum. <a title="Svedino
 s bil och flyg museum" href="https://www.svedinos.se">www.svedinos.se</a></
 p><p>Vi startar 09:00 från Circle K i Karlshamn.<br />Packa med egen fika v
 i stannar för fika på vägen upp. <br />Besöker Svedinos bil och flygmuseum 
 ca kl13:00<br />Planerna är att vi äter ca 14:30 på Göstas cafe och restaur
 ang innan hemfärd.</p> <a href="http://blekingemc.se/index.php/kalender-man
 ad/handelsedetaljer/12/-/1-a-majtur?tmpl=component">This event was imported
  from: http://blekingemc.se/index.php/kalender-manad/handelsedetaljer/12/-/
 1-a-majtur?tmpl=component</a>DTSTAMP:20260422T223053
DTSTART;TZID=Europe/Stockholm:20250501T090000
DTEND;TZID=Europe/Stockholm;VALUE=DATE:20250423
SEQUENCE:0
TRANSP:OPAQUE
END:VEVENT
END:VCALENDAR